BEGIN:VCALENDAR
VERSION:2.0
PRODID:-//Boston Roller Derby - ECPv6.15.20//NONSGML v1.0//EN
CALSCALE:GREGORIAN
METHOD:PUBLISH
X-ORIGINAL-URL:https://bostonrollerderby.com
X-WR-CALDESC:Events for Boston Roller Derby
REFRESH-INTERVAL;VALUE=DURATION:PT1H
X-Robots-Tag:noindex
X-PUBLISHED-TTL:PT1H
BEGIN:VTIMEZONE
TZID:UTC
BEGIN:STANDARD
TZOFFSETFROM:+0000
TZOFFSETTO:+0000
TZNAME:UTC
DTSTART:20250101T000000
END:STANDARD
END:VTIMEZONE
BEGIN:VEVENT
DTSTART;TZID=UTC:20260425T140000
DTEND;TZID=UTC:20260426T170000
DTSTAMP:20260419T164834
CREATED:20260411T133820Z
LAST-MODIFIED:20260411T134323Z
UID:5279-1777125600-1777222800@bostonrollerderby.com
SUMMARY:Roll-Chambeau Tournament
DESCRIPTION:Teams from Montreal and New York are coming to play Boston’s best! Get ready for a weekend of incredible roller derby. Tickets available here: https://events.humanitix.com/roll-chambeau \n  \nSaturday Schedule: \n2PM: Game 1 (Boston A Team vs Montreal New Skids on the Block) \n4:30PM: Junior Roller Derby Exhibition (Nor’east Uprising) \n7PM: Game 2 (Gotham All Stars vs Montreal New Skids on the Block) \n  \nSunday Schedule: \n11AM: Game 3 (Boston A Team vs Gotham All Stars) \n3PM: Game 4 (Gotham All Stars vs Montreal New Skids on the Block) \n  \n\nAll ages welcome. General admission seats are in the bleachers; VIP seats are trackside. \n\nChildren and young adults (ages 17 and under) seated in the VIP section must be accompanied by an adult with a VIP ticket.\nChildren under 6 are admitted free to all games and may sit in the VIP section if accompanied by an adult with a VIP ticket.\n\n\nLive streaming for each game will also be available via Boston Roller Derby’s Twitch account \n  \nHave questions? Need special accommodations? Looking for a group (10+) discount? E-mail: tickets@bostonderby.com
URL:https://bostonrollerderby.com/event/roll-chambeau-tournament/
LOCATION:Allied Veterans Memorial Rink\, 65 Elm Street\, Everett\, MA\, 02149\, United States
CATEGORIES:bout,Travel Team
ATTACH;FMTTYPE=image/png:https://bostonrollerderby.com/wp-content/uploads/2023/03/BRD_White.png
END:VEVENT
END:VCALENDAR